BEGIN:VCALENDAR
VERSION:2.0
PRODID:hinto.net
X-PUBLISHED-TTL:P1W
BEGIN:VEVENT
UID:hinto.net-event_show-6856148
DTSTART:20260417T180500
SEQUENCE:0
CREATED:20260327T225958
LAST-MODIFIED:20260327T225958
TRANSP:OPAQUE
DTEND:20260417T181000
LOCATION:
SUMMARY:SRF 1: Meteo
CLASS:PUBLIC
DESCRIPTION:
ORGANIZER:
DTSTAMP:20260419T143424
ATTACH:https://www.hinto.ch/de/events/srf-1-meteo-17-04-2026-1805-e2787327-20.html
END:VEVENT
END:VCALENDAR
