BEGIN:VCALENDAR
VERSION:2.0
PRODID:hinto.net
X-PUBLISHED-TTL:P1W
BEGIN:VEVENT
UID:hinto.net-event_show-6852495
DTSTART:20260417T002500
SEQUENCE:0
CREATED:20260326T181531
LAST-MODIFIED:20260326T181531
TRANSP:OPAQUE
DTEND:20260417T010000
LOCATION:
SUMMARY:SRF info: UEFA Europa League – Highlights Männer
CLASS:PUBLIC
DESCRIPTION:
ORGANIZER:
DTSTAMP:20260421T081519
ATTACH:https://www.hinto.ch/de/events/srf-info-uefa-europa-league-n-highlights-maenner-17-04-2026-0025-e2784374-20.html
END:VEVENT
END:VCALENDAR
