BEGIN:VCALENDAR
VERSION:2.0
PRODID:hinto.net
X-PUBLISHED-TTL:P1W
BEGIN:VEVENT
UID:hinto.net-event_show-6852500
DTSTART:20260417T014000
SEQUENCE:0
CREATED:20260326T181537
LAST-MODIFIED:20260326T181537
TRANSP:OPAQUE
DTEND:20260417T021500
LOCATION:
SUMMARY:SRF info: UEFA Europa League – Highlights Männer
CLASS:PUBLIC
DESCRIPTION:
ORGANIZER:
DTSTAMP:20260420T175503
ATTACH:https://www.hinto.ch/de/events/srf-info-uefa-europa-league-n-highlights-maenner-17-04-2026-0140-e2784379-20.html
END:VEVENT
END:VCALENDAR
