BEGIN:VCALENDAR
VERSION:2.0
PRODID:hinto.net
X-PUBLISHED-TTL:P1W
BEGIN:VEVENT
UID:hinto.net-event_show-6862552
DTSTART:20260419T200500
SEQUENCE:0
CREATED:20260329T145332
LAST-MODIFIED:20260329T145332
TRANSP:OPAQUE
DTEND:20260419T224000
LOCATION:
SUMMARY:SRF zwei: Le Mans 66: Gegen jede Chance
CLASS:PUBLIC
DESCRIPTION:
ORGANIZER:
DTSTAMP:20260420T224848
ATTACH:https://www.hinto.ch/de/events/srf-zwei-le-mans-66-gegen-jede-chance-19-04-2026-2005-e2793168-20.html
END:VEVENT
END:VCALENDAR
