BEGIN:VCALENDAR
VERSION:2.0
PRODID:hinto.net
X-PUBLISHED-TTL:P1W
BEGIN:VEVENT
UID:hinto.net-event_show-6925439
DTSTART:20260610T200000
SEQUENCE:0
CREATED:20260419T052224
LAST-MODIFIED:20260419T052224
TRANSP:OPAQUE

LOCATION:Casinotheater Winterthur
SUMMARY:Stefan Heuss
CLASS:PUBLIC
DESCRIPTION:
ORGANIZER:
DTSTAMP:20260421T063800
ATTACH:https://www.hinto.ch/de/events/stefan-heuss-10-06-2026-2000-casinotheater-winterthur-winterthur-e2847503-20.html
END:VEVENT
END:VCALENDAR
