BEGIN:VCALENDAR
VERSION:2.0
PRODID:hinto.net
X-PUBLISHED-TTL:P1W
BEGIN:VEVENT
UID:hinto.net-event_show-6863736
DTSTART:20260419T200000
SEQUENCE:0
CREATED:20260329T155726
LAST-MODIFIED:20260329T155726
TRANSP:OPAQUE
DTEND:20260419T201500
LOCATION:
SUMMARY:SWR: Tagesschau
CLASS:PUBLIC
DESCRIPTION:
ORGANIZER:
DTSTAMP:20260420T083434
ATTACH:https://www.hinto.ch/de/events/swr-tagesschau-19-04-2026-2000-e2794352-20.html
END:VEVENT
END:VCALENDAR
