BEGIN:VCALENDAR
VERSION:2.0
PRODID:hinto.net
X-PUBLISHED-TTL:P1W
BEGIN:VEVENT
UID:hinto.net-event_show-6466537
DTSTART:20260520T200000
SEQUENCE:0
CREATED:20251123T040831
LAST-MODIFIED:20251123T040831
TRANSP:OPAQUE
DTEND:20260520T220000
LOCATION:Fauteuil
SUMMARY:Sylphe - L'autre Piaf
CLASS:PUBLIC
DESCRIPTION:
ORGANIZER:
DTSTAMP:20260419T213734
ATTACH:https://www.hinto.ch/de/events/sylphe-lautre-piaf-20-05-2026-2000-fauteuil-basel-e2426034-20.html
END:VEVENT
END:VCALENDAR
