BEGIN:VCALENDAR
VERSION:2.0
PRODID:hinto.net
X-PUBLISHED-TTL:P1W
BEGIN:VEVENT
UID:hinto.net-event_show-6863351
DTSTART:20260419T121500
SEQUENCE:0
CREATED:20260413T154442
LAST-MODIFIED:20260413T154442
TRANSP:OPAQUE
DTEND:20260419T122000
LOCATION:
SUMMARY:Tele Bärn: premiumshopping.tv
CLASS:PUBLIC
DESCRIPTION:
ORGANIZER:
DTSTAMP:20260419T180934
ATTACH:https://www.hinto.ch/de/events/tele-baern-premiumshopping-tv-19-04-2026-1215-e2793967-20.html
END:VEVENT
END:VCALENDAR
