BEGIN:VCALENDAR
VERSION:2.0
PRODID:hinto.net
X-PUBLISHED-TTL:P1W
BEGIN:VEVENT
UID:hinto.net-event_show-6863350
DTSTART:20260419T120000
SEQUENCE:0
CREATED:20260329T153931
LAST-MODIFIED:20260329T153931
TRANSP:OPAQUE
DTEND:20260419T121500
LOCATION:
SUMMARY:Tele Bärn: TeleBärn News
CLASS:PUBLIC
DESCRIPTION:
ORGANIZER:
DTSTAMP:20260419T232813
ATTACH:https://www.hinto.ch/de/events/tele-baern-telebaern-news-19-04-2026-1200-e2793966-20.html
END:VEVENT
END:VCALENDAR
