BEGIN:VCALENDAR
VERSION:2.0
PRODID:hinto.net
X-PUBLISHED-TTL:P1W
BEGIN:VEVENT
UID:hinto.net-event_show-6863448
DTSTART:20260419T153500
SEQUENCE:0
CREATED:20260329T154553
LAST-MODIFIED:20260329T154553
TRANSP:OPAQUE
DTEND:20260419T160000
LOCATION:
SUMMARY:Tele Basel: Geld & Co.
CLASS:PUBLIC
DESCRIPTION:
ORGANIZER:
DTSTAMP:20260419T205813
ATTACH:https://www.hinto.ch/de/events/tele-basel-geld-co-19-04-2026-1535-e2794064-20.html
END:VEVENT
END:VCALENDAR
