BEGIN:VCALENDAR
VERSION:2.0
PRODID:hinto.net
X-PUBLISHED-TTL:P1W
BEGIN:VEVENT
UID:hinto.net-event_show-6863449
DTSTART:20260419T160000
SEQUENCE:0
CREATED:20260329T154554
LAST-MODIFIED:20260329T154554
TRANSP:OPAQUE
DTEND:20260419T161000
LOCATION:
SUMMARY:Tele Basel: Mein Verein
CLASS:PUBLIC
DESCRIPTION:
ORGANIZER:
DTSTAMP:20260419T230811
ATTACH:https://www.hinto.ch/de/events/tele-basel-mein-verein-19-04-2026-1600-e2794065-20.html
END:VEVENT
END:VCALENDAR
