BEGIN:VCALENDAR
VERSION:2.0
PRODID:hinto.net
X-PUBLISHED-TTL:P1W
BEGIN:VEVENT
UID:hinto.net-event_show-6853485
DTSTART:20260417T000000
SEQUENCE:0
CREATED:20260326T191715
LAST-MODIFIED:20260326T191715
TRANSP:OPAQUE
DTEND:20260417T001300
LOCATION:
SUMMARY:Tele Basel: punkt6
CLASS:PUBLIC
DESCRIPTION:
ORGANIZER:
DTSTAMP:20260419T185851
ATTACH:https://www.hinto.ch/de/events/tele-basel-punkt6-17-04-2026-0000-e2785364-20.html
END:VEVENT
END:VCALENDAR
