BEGIN:VCALENDAR
VERSION:2.0
PRODID:hinto.net
X-PUBLISHED-TTL:P1W
BEGIN:VEVENT
UID:hinto.net-event_show-6859825
DTSTART:20260419T000000
SEQUENCE:0
CREATED:20260418T063530
LAST-MODIFIED:20260418T063530
TRANSP:OPAQUE
DTEND:20260419T001600
LOCATION:
SUMMARY:Tele M1: Aktuell
CLASS:PUBLIC
DESCRIPTION:
ORGANIZER:
DTSTAMP:20260420T072443
ATTACH:https://www.hinto.ch/de/events/tele-m1-aktuell-19-04-2026-0000-e2791004-20.html
END:VEVENT
END:VCALENDAR
