BEGIN:VCALENDAR
VERSION:2.0
PRODID:hinto.net
X-PUBLISHED-TTL:P1W
BEGIN:VEVENT
UID:hinto.net-event_show-6863530
DTSTART:20260419T120000
SEQUENCE:0
CREATED:20260412T100216
LAST-MODIFIED:20260412T100216
TRANSP:OPAQUE
DTEND:20260419T140000
LOCATION:
SUMMARY:Tele Südostschweiz: Radio Grischa
CLASS:PUBLIC
DESCRIPTION:
ORGANIZER:
DTSTAMP:20260421T071706
ATTACH:https://www.hinto.ch/de/events/tele-suedostschweiz-radio-grischa-19-04-2026-1200-e2794146-20.html
END:VEVENT
END:VCALENDAR
