BEGIN:VCALENDAR
VERSION:2.0
PRODID:hinto.net
X-PUBLISHED-TTL:P1W
BEGIN:VEVENT
UID:hinto.net-event_show-6901612
DTSTART:20260419T154000
SEQUENCE:0
CREATED:20260411T061126
LAST-MODIFIED:20260411T061126
TRANSP:OPAQUE
DTEND:20260419T160000
LOCATION:
SUMMARY:Tele Südostschweiz: Top Pot
CLASS:PUBLIC
DESCRIPTION:
ORGANIZER:
DTSTAMP:20260419T230325
ATTACH:https://www.hinto.ch/de/events/tele-suedostschweiz-top-pot-19-04-2026-1540-e2827010-20.html
END:VEVENT
END:VCALENDAR
