BEGIN:VCALENDAR
VERSION:2.0
PRODID:hinto.net
X-PUBLISHED-TTL:P1W
BEGIN:VEVENT
UID:hinto.net-event_show-6863582
DTSTART:20260419T121600
SEQUENCE:0
CREATED:20260329T155043
LAST-MODIFIED:20260329T155043
TRANSP:OPAQUE
DTEND:20260419T123100
LOCATION:
SUMMARY:Tele Top: Kuchler
CLASS:PUBLIC
DESCRIPTION:
ORGANIZER:
DTSTAMP:20260419T180955
ATTACH:https://www.hinto.ch/de/events/tele-top-kuchler-19-04-2026-1216-e2794198-20.html
END:VEVENT
END:VCALENDAR
