BEGIN:VCALENDAR
VERSION:2.0
PRODID:hinto.net
X-PUBLISHED-TTL:P1W
BEGIN:VEVENT
UID:hinto.net-event_show-6863581
DTSTART:20260419T121300
SEQUENCE:0
CREATED:20260329T155043
LAST-MODIFIED:20260329T155043
TRANSP:OPAQUE
DTEND:20260419T121600
LOCATION:
SUMMARY:Tele Top: Top Wetter
CLASS:PUBLIC
DESCRIPTION:
ORGANIZER:
DTSTAMP:20260419T184518
ATTACH:https://www.hinto.ch/de/events/tele-top-top-wetter-19-04-2026-1213-e2794197-20.html
END:VEVENT
END:VCALENDAR
