BEGIN:VCALENDAR
VERSION:2.0
PRODID:hinto.net
X-PUBLISHED-TTL:P1W
BEGIN:VEVENT
UID:hinto.net-event_show-6922437
DTSTART:20260419T122000
SEQUENCE:0
CREATED:20260418T114159
LAST-MODIFIED:20260418T114159
TRANSP:OPAQUE
DTEND:20260419T123000
LOCATION:
SUMMARY:Tele Züri: premiumshopping.tv
CLASS:PUBLIC
DESCRIPTION:
ORGANIZER:
DTSTAMP:20260424T081433
ATTACH:https://www.hinto.ch/de/events/tele-zueri-premiumshopping-tv-19-04-2026-1220-e2844964-20.html
END:VEVENT
END:VCALENDAR
