BEGIN:VCALENDAR
VERSION:2.0
PRODID:hinto.net
X-PUBLISHED-TTL:P1W
BEGIN:VEVENT
UID:hinto.net-event_show-6863060
DTSTART:20260419T153000
SEQUENCE:0
CREATED:20260329T152418
LAST-MODIFIED:20260329T152418
TRANSP:OPAQUE
DTEND:20260419T155000
LOCATION:
SUMMARY:Tele Züri: Tierisch
CLASS:PUBLIC
DESCRIPTION:
ORGANIZER:
DTSTAMP:20260420T145815
ATTACH:https://www.hinto.ch/de/events/tele-zueri-tierisch-19-04-2026-1530-e2793676-20.html
END:VEVENT
END:VCALENDAR
