BEGIN:VCALENDAR
VERSION:2.0
PRODID:hinto.net
X-PUBLISHED-TTL:P1W
BEGIN:VEVENT
UID:hinto.net-event_show-6879054
DTSTART:20260424T180000
SEQUENCE:0
CREATED:20260423T220142
LAST-MODIFIED:20260423T220142
TRANSP:OPAQUE
DTEND:20260424T181500
LOCATION:
SUMMARY:Tele Züri: ZüriNews
CLASS:PUBLIC
DESCRIPTION:
ORGANIZER:
DTSTAMP:20260424T091836
ATTACH:https://www.hinto.ch/de/events/tele-zueri-zuerinews-24-04-2026-1800-e2806960-20.html
END:VEVENT
END:VCALENDAR
