BEGIN:VCALENDAR
VERSION:2.0
PRODID:hinto.net
X-PUBLISHED-TTL:P1W
BEGIN:VEVENT
UID:hinto.net-event_show-6806667
DTSTART:20260605T213000
SEQUENCE:0
CREATED:20260311T050638
LAST-MODIFIED:20260311T050638
TRANSP:OPAQUE
DTEND:20260605T233000
LOCATION:VIDMARHALLEN
SUMMARY:TROPHÄE - Bühnen Bern
CLASS:PUBLIC
DESCRIPTION:
ORGANIZER:
DTSTAMP:20260425T061628
ATTACH:https://www.hinto.ch/de/events/trophaee-buehnen-bern-05-06-2026-2130-vidmarhallen-liebefeld-e2746548-20.html
END:VEVENT
END:VCALENDAR
