BEGIN:VCALENDAR
VERSION:2.0
PRODID:hinto.net
X-PUBLISHED-TTL:P1W
BEGIN:VEVENT
UID:hinto.net-event_show-6810270
DTSTART:20260513T193000
SEQUENCE:0
CREATED:20260313T034838
LAST-MODIFIED:20260313T034838
TRANSP:OPAQUE
DTEND:20260513T213000
LOCATION:VIDMARHALLEN
SUMMARY:TROPHÄE - Bühnen Bern
CLASS:PUBLIC
DESCRIPTION:
ORGANIZER:
DTSTAMP:20260424T175241
ATTACH:https://www.hinto.ch/de/events/trophaee-buehnen-bern-13-05-2026-1930-vidmarhallen-liebefeld-e2746548-20.html
END:VEVENT
END:VCALENDAR
