BEGIN:VCALENDAR
VERSION:2.0
PRODID:hinto.net
X-PUBLISHED-TTL:P1W
BEGIN:VEVENT
UID:hinto.net-event_show-6891533
DTSTART:20260419T191500
SEQUENCE:0
CREATED:20260418T080556
LAST-MODIFIED:20260418T080556
TRANSP:OPAQUE
DTEND:20260419T201000
LOCATION:
SUMMARY:TV24: Ultimate Tennis Showdown: Bastide UTS Nîmes
CLASS:PUBLIC
DESCRIPTION:
ORGANIZER:
DTSTAMP:20260421T050742
ATTACH:https://www.hinto.ch/de/events/tv24-ultimate-tennis-showdown-bastide-uts-nimes-19-04-2026-1915-e2817639-20.html
END:VEVENT
END:VCALENDAR
