BEGIN:VCALENDAR
VERSION:2.0
PRODID:hinto.net
X-PUBLISHED-TTL:P1W
BEGIN:VEVENT
UID:hinto.net-event_show-6922479
DTSTART:20260419T201000
SEQUENCE:0
CREATED:20260418T114345
LAST-MODIFIED:20260418T114345
TRANSP:OPAQUE
DTEND:20260419T212500
LOCATION:
SUMMARY:TV24: Ultimate Tennis Showdown: Bastide UTS Nîmes
CLASS:PUBLIC
DESCRIPTION:
ORGANIZER:
DTSTAMP:20260421T043153
ATTACH:https://www.hinto.ch/de/events/tv24-ultimate-tennis-showdown-bastide-uts-nimes-19-04-2026-2010-e2845006-20.html
END:VEVENT
END:VCALENDAR
