BEGIN:VCALENDAR
VERSION:2.0
PRODID:hinto.net
X-PUBLISHED-TTL:P1W
BEGIN:VEVENT
UID:hinto.net-event_show-6921857
DTSTART:20260610T190000
SEQUENCE:0
CREATED:20260417T071632
LAST-MODIFIED:20260417T071632
TRANSP:OPAQUE
DTEND:20260610T230000
LOCATION:Hagenhaus
SUMMARY:Violine IV
CLASS:PUBLIC
DESCRIPTION:
ORGANIZER:
DTSTAMP:20260420T200005
ATTACH:https://www.hinto.ch/de/events/violine-iv-10-06-2026-1900-hagenhaus-nendeln-e2844636-20.html
END:VEVENT
END:VCALENDAR
