BEGIN:VCALENDAR
VERSION:2.0
PRODID:hinto.net
X-PUBLISHED-TTL:P1W
BEGIN:VEVENT
UID:hinto.net-event_show-6876939
DTSTART:20260905T090000
SEQUENCE:0
CREATED:20260402T094434
LAST-MODIFIED:20260402T094434
TRANSP:OPAQUE
DTEND:20260905T220000
LOCATION:Kirchplatz Salgesch
SUMMARY:Weinherbst
CLASS:PUBLIC
DESCRIPTION:
ORGANIZER:
DTSTAMP:20260419T234412
ATTACH:https://www.hinto.ch/de/events/weinherbst-05-09-2026-0900-kirchplatz-salgesch-salgesch-e2805015-20.html
END:VEVENT
END:VCALENDAR
