BEGIN:VCALENDAR
VERSION:2.0
PRODID:hinto.net
X-PUBLISHED-TTL:P1W
BEGIN:VEVENT
UID:hinto.net-event_show-6921703
DTSTART:20260503T090000
SEQUENCE:0
CREATED:20260417T071338
LAST-MODIFIED:20260417T071338
TRANSP:OPAQUE

LOCATION:Vaudeville
SUMMARY:Weißwurstfrühstückbeg
CLASS:PUBLIC
DESCRIPTION:
ORGANIZER:
DTSTAMP:20260420T170339
ATTACH:https://www.hinto.ch/de/events/weisswurstfruehstueckbeg-03-05-2026-0900-vaudeville-lindau-e2844520-20.html
END:VEVENT
END:VCALENDAR
