BEGIN:VCALENDAR
VERSION:2.0
PRODID:hinto.net
X-PUBLISHED-TTL:P1W
BEGIN:VEVENT
UID:hinto.net-event_show-6810039
DTSTART:20260627T173000
SEQUENCE:0
CREATED:20260312T124933
LAST-MODIFIED:20260312T124933
TRANSP:OPAQUE
DTEND:20260627T230000
LOCATION:Drehrestaurant Rondorama
SUMMARY:Wine & Dine
CLASS:PUBLIC
DESCRIPTION:
ORGANIZER:
DTSTAMP:20260421T071626
ATTACH:https://www.hinto.ch/de/events/wine-dine-27-06-2026-1730-drehrestaurant-rondorama-stans-e2749628-20.html
END:VEVENT
END:VCALENDAR
