BEGIN:VCALENDAR
VERSION:2.0
PRODID:hinto.net
X-PUBLISHED-TTL:P1W
BEGIN:VEVENT
UID:hinto.net-event_show-6903868
DTSTART:20260428T203000
SEQUENCE:0
CREATED:20260411T114623
LAST-MODIFIED:20260411T114623
TRANSP:OPAQUE

LOCATION:Oberwalliser Kellertheater
SUMMARY:Wort und Spiel Ensemble
CLASS:PUBLIC
DESCRIPTION:
ORGANIZER:
DTSTAMP:20260419T214821
ATTACH:https://www.hinto.ch/de/events/wort-und-spiel-ensemble-28-04-2026-2030-oberwalliser-kellertheater-brig-e2829102-20.html
END:VEVENT
END:VCALENDAR
