BEGIN:VCALENDAR
VERSION:2.0
PRODID:hinto.net
X-PUBLISHED-TTL:P1W
BEGIN:VEVENT
UID:hinto.net-event_show-6806022
DTSTART:20360112T100000
SEQUENCE:0
CREATED:20260311T050421
LAST-MODIFIED:20260311T050421
TRANSP:OPAQUE

LOCATION:Naturhistorisches Museum der Burgergemeinde Bern
SUMMARY:Wunderkammer - Die Schausammlung
CLASS:PUBLIC
DESCRIPTION:
ORGANIZER:
DTSTAMP:20260424T231738
ATTACH:https://www.hinto.ch/de/events/wunderkammer-die-schausammlung-12-01-2036-1000-naturhistorisches-museum-der-burgergemeinde-bern-bern-e2283161-20.html
END:VEVENT
END:VCALENDAR
