BEGIN:VCALENDAR
VERSION:2.0
PRODID:hinto.net
X-PUBLISHED-TTL:P1W
BEGIN:VEVENT
UID:hinto.net-event_show-6777094
DTSTART:20260509T173000
SEQUENCE:0
CREATED:20260306T065749
LAST-MODIFIED:20260306T065749
TRANSP:OPAQUE
DTEND:20260509T230000
LOCATION:Drehrestaurant Rondorama
SUMMARY:Zauberdinner mit Lorenz Schär
CLASS:PUBLIC
DESCRIPTION:
ORGANIZER:
DTSTAMP:20260421T002742
ATTACH:https://www.hinto.ch/de/events/zauberdinner-mit-lorenz-schaer-09-05-2026-1730-drehrestaurant-rondorama-stans-e2732235-20.html
END:VEVENT
END:VCALENDAR
