BEGIN:VCALENDAR
VERSION:2.0
PRODID:hinto.net
X-PUBLISHED-TTL:P1W
BEGIN:VEVENT
UID:hinto.net-event_show-6749493
DTSTART:20260627T130000
SEQUENCE:0
CREATED:20260225T091710
LAST-MODIFIED:20260225T091710
TRANSP:OPAQUE
DTEND:20260627T000000
LOCATION:Seepromenade
SUMMARY:Zuger SEEfest
CLASS:PUBLIC
DESCRIPTION:
ORGANIZER:
DTSTAMP:20260421T003551
ATTACH:https://www.hinto.ch/de/events/zuger-seefest-27-06-2026-1300-seepromenade-zug-e2707908-20.html
END:VEVENT
END:VCALENDAR
