BEGIN:VCALENDAR
VERSION:2.0
PRODID:hinto.net
X-PUBLISHED-TTL:P1W
BEGIN:VEVENT
UID:hinto.net-event_show-6933233
DTSTART:20260425T230000
SEQUENCE:0
CREATED:20260422T052129
LAST-MODIFIED:20260422T052129
TRANSP:OPAQUE

LOCATION:KINKER
SUMMARY:ART OF PSYCHEDELIC
CLASS:PUBLIC
DESCRIPTION:
ORGANIZER:
DTSTAMP:20260425T051526
ATTACH:https://www.hinto.ch/de/events/art-of-psychedelic-25-04-2026-2300-kinker-muenchenstein-e2854411-20.html
END:VEVENT
END:VCALENDAR
