BEGIN:VCALENDAR
VERSION:2.0
PRODID:hinto.net
X-PUBLISHED-TTL:P1W
BEGIN:VEVENT
UID:hinto.net-event_show-6930345
DTSTART:20260425T200000
SEQUENCE:0
CREATED:20260421T030926
LAST-MODIFIED:20260421T030926
TRANSP:OPAQUE
DTEND:20260426T013000
LOCATION:Dampfzentrale
SUMMARY:EXPOP 2026
CLASS:PUBLIC
DESCRIPTION:
ORGANIZER:
DTSTAMP:20260421T150223
ATTACH:https://www.hinto.ch/de/events/expop-2026-25-04-2026-2000-dampfzentrale-bern-e2847398-20.html
END:VEVENT
END:VCALENDAR
